BEGIN:VCALENDAR
VERSION:2.0
PRODID:-//dsagreatercolumbus.org//NONSGML kigkonsult.se iCalcreator 2.30.10
 //
CALSCALE:GREGORIAN
METHOD:PUBLISH
UID:5f8fd2c1-24a6-45ee-97f4-439135ac3592
X-WR-CALDESC:Rock Your Socks – Sock Hop! \n\nJoin us for a fun-filled Rock 
 Your Socks – Sock Hop as we celebrate World Down Syndrome Day in style! Th
 is all-ages event is open to the entire community\, and we can't wait to d
 ance the night away with you.\n\nWhat to Expect:\n\n Live DJ playing all y
 our favorite tunes\n Photo Booth to capture all the fun moments\n Line Dan
 cing to get everyone moving\n Light Snacks & Refreshments to keep you ener
 gized\n\nWear your wackiest\, most colorful socks to show your support and
  help us spread awareness in the most fun way possible! Let’s come togethe
 r\, dance\, and celebrate inclusion\, love\, and the amazing individuals i
 n our community.\n\n Location: Echo Event Center\n Date & Time: 3.21 6 pm 
 - 8 pm\n\nMark your calendars and invite your friends and family! We can’t
  wait to see you there!
X-WR-RELCALID:9f0e303f03678be804631d166d3071d9
X-WR-TIMEZONE:America/New_York
BEGIN:VTIMEZONE
TZID:America/New_York
BEGIN:STANDARD
TZNAME:EST
DTSTART:20241103T020000
TZOFFSETFROM:-0400
TZOFFSETTO:-0500
RDATE:20251102T020000
END:STANDARD
BEGIN:DAYLIGHT
TZNAME:EDT
DTSTART:20250309T020000
TZOFFSETFROM:-0500
TZOFFSETTO:-0400
RDATE:20260308T020000
END:DAYLIGHT
END:VTIMEZONE
BEGIN:VEVENT
UID:809b6c11-83b1-418b-95a8-ab6bcece21e5
DTSTAMP:20260419T144926Z
DESCRIPTION:Rock Your Socks – Sock Hop! \n\nJoin us for a fun-filled Rock Y
 our Socks – Sock Hop as we celebrate World Down Syndrome Day in style! Thi
 s all-ages event is open to the entire community\, and we can't wait to da
 nce the night away with you.\n\nWhat to Expect:\n\n Live DJ playing all yo
 ur favorite tunes\n Photo Booth to capture all the fun moments\n Line Danc
 ing to get everyone moving\n Light Snacks & Refreshments to keep you energ
 ized\n\nWear your wackiest\, most colorful socks to show your support and 
 help us spread awareness in the most fun way possible! Let’s come together
 \, dance\, and celebrate inclusion\, love\, and the amazing individuals in
  our community.\n\n Location: Echo Event Center\n Date & Time: 3.21 6 pm -
  8 pm\n\nMark your calendars and invite your friends and family! We can’t 
 wait to see you there!
DTSTART;TZID=America/New_York:20250321T180000
DTEND;TZID=America/New_York:20250321T200000
LOCATION:6018 Business Park Dr\, Columbus\, GA 31909 US
SUMMARY:Rock Your Socks - Sock Hop
END:VEVENT
END:VCALENDAR
