BEGIN:VCALENDAR
VERSION:2.0
PRODID:-//dsagreatercolumbus.org//NONSGML kigkonsult.se iCalcreator 2.30.10
 //
CALSCALE:GREGORIAN
METHOD:PUBLISH
UID:3633ed6c-5729-4067-b629-bd2535fbac53
X-WR-CALDESC:Exciting News! ? \n3.21\, World Down Syndrome Day is just arou
 nd the corner\, and we’re thrilled to kick off our 2nd year collaborating 
 with Lucky Spider Tattoo! ? \n\nTo celebrate World Down Syndrome Day\, Luc
 ky Spider Tattoo is hosting an amazing flash sale every Friday in March! ?
  \n\nHere’s the deal: all approved tattoos featured on our flyer are just 
 $21 (plus tip)! ?️✨ \n\nWhether you're a walk-in or want to schedule an ap
 pointment\, they've got you covered!\n \nThe best part? ALL proceeds from 
 this incredible event will go directly to DSAGC! ??\n\nPayments can be mad
 e via cash\, Venmo\, or Cash App—just be sure to SHOW LOVE and tip your am
 azing tattoo artist! ?
X-WR-RELCALID:460705fb57a92b0aa587b3355fbe10a2
X-WR-TIMEZONE:America/New_York
BEGIN:VTIMEZONE
TZID:America/New_York
BEGIN:STANDARD
TZNAME:EST
DTSTART:20241103T020000
TZOFFSETFROM:-0400
TZOFFSETTO:-0500
RDATE:20251102T020000
END:STANDARD
BEGIN:DAYLIGHT
TZNAME:EDT
DTSTART:20250309T020000
TZOFFSETFROM:-0500
TZOFFSETTO:-0400
RDATE:20260308T020000
END:DAYLIGHT
END:VTIMEZONE
BEGIN:VEVENT
UID:4282a181-453c-4802-9548-1d9cf20135b2
DTSTAMP:20260419T144802Z
DESCRIPTION:Exciting News! ? \n3.21\, World Down Syndrome Day is just aroun
 d the corner\, and we’re thrilled to kick off our 2nd year collaborating w
 ith Lucky Spider Tattoo! ? \n\nTo celebrate World Down Syndrome Day\, Luck
 y Spider Tattoo is hosting an amazing flash sale every Friday in March! ? 
 \n\nHere’s the deal: all approved tattoos featured on our flyer are just $
 21 (plus tip)! ?️✨ \n\nWhether you're a walk-in or want to schedule an app
 ointment\, they've got you covered!\n \nThe best part? ALL proceeds from t
 his incredible event will go directly to DSAGC! ??\n\nPayments can be made
  via cash\, Venmo\, or Cash App—just be sure to SHOW LOVE and tip your ama
 zing tattoo artist! ?
DTSTART;TZID=America/New_York:20250314T120000
DTEND;TZID=America/New_York:20250314T220000
LOCATION:221 9th st\, Columbus\, GA 31901 US
SUMMARY:3.21 WDSD Tattoo Event
END:VEVENT
END:VCALENDAR
