BEGIN:VCALENDAR
VERSION:2.0
PRODID:-//dsagreatercolumbus.org//NONSGML kigkonsult.se iCalcreator 2.30.10
 //
CALSCALE:GREGORIAN
METHOD:PUBLISH
UID:df0583f6-1646-4fd6-adb4-bac1d040db0b
X-WR-CALDESC:If you would like to join us for the parade and walk with the 
 float\, please register and let us know how many will be attending. We wil
 l be meeting at 8:45 am before the parade so we can all walk over together
 ! (see link for directions) https://maps.app.goo.gl/8PHa9y4w3Ja54zoZ9
X-WR-RELCALID:ddec78b790b1b9bcea43433bbbd4add8
X-WR-TIMEZONE:America/New_York
BEGIN:VTIMEZONE
TZID:America/New_York
BEGIN:STANDARD
TZNAME:EST
DTSTART:20241103T020000
TZOFFSETFROM:-0400
TZOFFSETTO:-0500
RDATE:20251102T020000
END:STANDARD
BEGIN:DAYLIGHT
TZNAME:EDT
DTSTART:20240310T020000
TZOFFSETFROM:-0500
TZOFFSETTO:-0400
RDATE:20250309T020000
RDATE:20260308T020000
END:DAYLIGHT
END:VTIMEZONE
BEGIN:VEVENT
UID:1f422909-dfa6-4dae-94f5-9d969aebf504
DTSTAMP:20260419T195251Z
DESCRIPTION:If you would like to join us for the parade and walk with the f
 loat\, please register and let us know how many will be attending. We will
  be meeting at 8:45 am before the parade so we can all walk over together!
  (see link for directions) https://maps.app.goo.gl/8PHa9y4w3Ja54zoZ9
DTSTART;TZID=America/New_York:20241207T084500
DTEND;TZID=America/New_York:20241207T130000
LOCATION:
SUMMARY:2024 Bi-City Christmas Parade
END:VEVENT
END:VCALENDAR
