BEGIN:VCALENDAR
VERSION:2.0
PRODID:-//dsagreatercolumbus.org//NONSGML kigkonsult.se iCalcreator 2.30.10
 //
CALSCALE:GREGORIAN
METHOD:PUBLISH
UID:997c8ea7-d7ab-4d86-938b-26b1fa1559dd
X-WR-CALDESC:Join us virtually to hear from three remarkable women! Katelyn
  Campos\, an Adaptive Swim Coach and Physical Therapist\, will talk about 
 her journey from aquatic therapy to swim instruction and how she tailors h
 er lessons for children with special needs. Carrie Defenbaugh\, President 
 of DSAGC\, will share her personal story related to her son's drowning and
  her subsequent advocacy for swim lessons. Lastly\, Stephanie Hogan\, an I
 SR instructor and owner of Chattahoochee Valley ISR\, will explain the ben
 efits of ISR and its significance for children with special needs. \n
X-WR-RELCALID:bb50f43ef7755dc7628b2c81ddb6e5ef
X-WR-TIMEZONE:America/New_York
BEGIN:VTIMEZONE
TZID:America/New_York
BEGIN:STANDARD
TZNAME:EST
DTSTART:20241103T020000
TZOFFSETFROM:-0400
TZOFFSETTO:-0500
RDATE:20251102T020000
END:STANDARD
BEGIN:DAYLIGHT
TZNAME:EDT
DTSTART:20240310T020000
TZOFFSETFROM:-0500
TZOFFSETTO:-0400
RDATE:20250309T020000
RDATE:20260308T020000
END:DAYLIGHT
END:VTIMEZONE
BEGIN:VEVENT
UID:d6ae07c5-12eb-4486-802c-389b1a636a50
DTSTAMP:20260419T214051Z
DESCRIPTION:Join us virtually to hear from three remarkable women! Katelyn 
 Campos\, an Adaptive Swim Coach and Physical Therapist\, will talk about h
 er journey from aquatic therapy to swim instruction and how she tailors he
 r lessons for children with special needs. Carrie Defenbaugh\, President o
 f DSAGC\, will share her personal story related to her son's drowning and 
 her subsequent advocacy for swim lessons. Lastly\, Stephanie Hogan\, an IS
 R instructor and owner of Chattahoochee Valley ISR\, will explain the bene
 fits of ISR and its significance for children with special needs. \n
DTSTART;TZID=America/New_York:20241112T183000
DTEND;TZID=America/New_York:20241112T193000
LOCATION:https://teams.live.com/meet/9341231041362?p=tJhQpGnH2ph0vLqW2f
SUMMARY:F.A.C.E. Speaker Series - Adaptive Swim and ISR.
END:VEVENT
END:VCALENDAR
