BEGIN:VCALENDAR
VERSION:2.0
PRODID:-//dsagreatercolumbus.org//NONSGML kigkonsult.se iCalcreator 2.30.10
 //
CALSCALE:GREGORIAN
METHOD:PUBLISH
UID:0bf54d22-2829-4586-bb00-cb4324b9fba9
X-WR-CALDESC:
X-WR-RELCALID:24af2b40a8fe15cc799154f70e91fd3e
X-WR-TIMEZONE:America/New_York
BEGIN:VTIMEZONE
TZID:America/New_York
BEGIN:STANDARD
TZNAME:EST
DTSTART:20231105T020000
TZOFFSETFROM:-0400
TZOFFSETTO:-0500
RDATE:20241103T020000
RDATE:20251102T020000
END:STANDARD
BEGIN:DAYLIGHT
TZNAME:EDT
DTSTART:20240310T020000
TZOFFSETFROM:-0500
TZOFFSETTO:-0400
RDATE:20250309T020000
RDATE:20260308T020000
END:DAYLIGHT
END:VTIMEZONE
BEGIN:VEVENT
UID:8536970f-b2c6-4893-9b78-18fa2e9fb246
DTSTAMP:20260419T232741Z
DESCRIPTION:
DTSTART;TZID=America/New_York:20241028T180000
DTEND;TZID=America/New_York:20241028T200000
LOCATION:727 54th St.\, Columbus\, GA 31904 US
SUMMARY:Trunk or Treat for Special Needs Families at Cascade Hills Park
END:VEVENT
END:VCALENDAR
