BEGIN:VCALENDAR
VERSION:2.0
PRODID:-//dsagreatercolumbus.org//NONSGML kigkonsult.se iCalcreator 2.30.10
 //
CALSCALE:GREGORIAN
METHOD:PUBLISH
UID:dc43b3d0-4e19-449e-ac76-12903b28ff09
X-WR-CALDESC:Join us for an evening of discussing challenging behaviors and
  how to handle them\, shared by a mom who's been there\, and done that. In
  addition\, we will also hear from another fellow mom as she walks us thro
 ugh her time at the NDSC Conference this past July in Phoenix\, Arizona.\n
 \nChildcare will be provided\, please make sure to fill out our childcare 
 form so we can be best prepared.
X-WR-RELCALID:2d122c1aac75561e8860a23397a05d3b
X-WR-TIMEZONE:America/New_York
BEGIN:VTIMEZONE
TZID:America/New_York
BEGIN:STANDARD
TZNAME:EST
DTSTART:20231105T020000
TZOFFSETFROM:-0400
TZOFFSETTO:-0500
RDATE:20241103T020000
RDATE:20251102T020000
END:STANDARD
BEGIN:DAYLIGHT
TZNAME:EDT
DTSTART:20240310T020000
TZOFFSETFROM:-0500
TZOFFSETTO:-0400
RDATE:20250309T020000
RDATE:20260308T020000
END:DAYLIGHT
END:VTIMEZONE
BEGIN:VEVENT
UID:aed06d66-879f-423a-bb76-a3ee4e61f5bb
DTSTAMP:20260419T232647Z
DESCRIPTION:Join us for an evening of discussing challenging behaviors and 
 how to handle them\, shared by a mom who's been there\, and done that. In 
 addition\, we will also hear from another fellow mom as she walks us throu
 gh her time at the NDSC Conference this past July in Phoenix\, Arizona.\n
 \nChildcare will be provided\, please make sure to fill out our childcare 
 form so we can be best prepared.
DTSTART;TZID=America/New_York:20241015T180000
DTEND;TZID=America/New_York:20241015T193000
LOCATION:2515 Double Churches Rd\, Columbus\, GA 31909 US
SUMMARY:F.A.C.E. Speaker Series - Behavior - Parent to Parent
END:VEVENT
END:VCALENDAR
