BEGIN:VCALENDAR
VERSION:2.0
PRODID:-//dsagreatercolumbus.org//NONSGML kigkonsult.se iCalcreator 2.30.10
 //
CALSCALE:GREGORIAN
METHOD:PUBLISH
UID:4f12e646-fd12-463f-8e08-04f8bb13adc1
X-WR-CALDESC:Join the Down Syndrome Association of Greater Columbus as we u
 nite for a common cause and raise funds at the 2024 Greater Columbus Buddy
  Walk®. Whether you have Down syndrome\, know someone who does\, or just w
 ant to show your support\, take the first step and donate or register toda
 y! Every donation made allows us to continue our goal of connecting famili
 es with resources and support. Help us spread the word\; all are welcome f
 or our day of celebration!\n\n
X-WR-RELCALID:f73879fd43ac62ad6a25cf03e4efe1e9
X-WR-TIMEZONE:America/New_York
BEGIN:VTIMEZONE
TZID:America/New_York
BEGIN:STANDARD
TZNAME:EST
DTSTART:20231105T020000
TZOFFSETFROM:-0400
TZOFFSETTO:-0500
RDATE:20241103T020000
RDATE:20251102T020000
END:STANDARD
BEGIN:DAYLIGHT
TZNAME:EDT
DTSTART:20240310T020000
TZOFFSETFROM:-0500
TZOFFSETTO:-0400
RDATE:20250309T020000
RDATE:20260308T020000
END:DAYLIGHT
END:VTIMEZONE
BEGIN:VEVENT
UID:613d18e4-553f-413a-888e-234ce5ca5aa9
DTSTAMP:20260419T233116Z
DESCRIPTION:Join the Down Syndrome Association of Greater Columbus as we un
 ite for a common cause and raise funds at the 2024 Greater Columbus Buddy 
 Walk®. Whether you have Down syndrome\, know someone who does\, or just wa
 nt to show your support\, take the first step and donate or register today
 ! Every donation made allows us to continue our goal of connecting familie
 s with resources and support. Help us spread the word\; all are welcome fo
 r our day of celebration!\n\n
DTSTART;TZID=America/New_York:20241005T110000
DTEND;TZID=America/New_York:20241005T140000
LOCATION:4225 University Avenue\, Columbus\, GA 31907 US
SUMMARY:2024 Greater Columbus BuddyWalk
END:VEVENT
END:VCALENDAR
